Package: HilbertVisGUI Version: 1.64.0 Command: /home/biocbuild/bbs-3.20-bioc/R/bin/R CMD build --keep-empty-dirs --no-resave-data --md5 HilbertVisGUI StartedAt: 2025-01-27 18:33:39 -0500 (Mon, 27 Jan 2025) EndedAt: 2025-01-27 18:34:03 -0500 (Mon, 27 Jan 2025) EllapsedTime: 24.0 seconds RetCode: 0 Status: OK PackageFile: HilbertVisGUI_1.64.0.tar.gz PackageFileSize: 149.7 KiB