Package: HilbertVis Version: 1.64.0 Command: /home/biocbuild/R/R/bin/R CMD INSTALL HilbertVis StartedAt: 2025-02-03 20:24:12 -0000 (Mon, 03 Feb 2025) EndedAt: 2025-02-03 20:24:28 -0000 (Mon, 03 Feb 2025) EllapsedTime: 16.4 seconds RetCode: 1 Status: ERROR