Package: HilbertVis Version: 1.64.0 Command: /Library/Frameworks/R.framework/Resources/bin/R CMD INSTALL HilbertVis StartedAt: 2025-01-27 15:10:02 -0500 (Mon, 27 Jan 2025) EndedAt: 2025-01-27 15:10:06 -0500 (Mon, 27 Jan 2025) EllapsedTime: 3.5 seconds RetCode: 0 Status: OK