Package: HilbertVis Version: 1.64.0 Command: /Library/Frameworks/R.framework/Resources/bin/R CMD check --install=check:HilbertVis.install-out.txt --library=/Library/Frameworks/R.framework/Resources/library --no-vignettes --timings HilbertVis_1.64.0.tar.gz StartedAt: 2025-04-01 21:50:27 -0400 (Tue, 01 Apr 2025) EndedAt: 2025-04-01 21:50:54 -0400 (Tue, 01 Apr 2025) EllapsedTime: 26.8 seconds RetCode: 0 Status: WARNINGS CheckDir: HilbertVis.Rcheck Warnings: 1