Package: HilbertCurve Version: 2.0.0 Command: /home/biocbuild/R/R/bin/R CMD build --keep-empty-dirs --no-resave-data HilbertCurve StartedAt: 2025-01-28 00:57:00 -0000 (Tue, 28 Jan 2025) EndedAt: 2025-01-28 00:57:34 -0000 (Tue, 28 Jan 2025) EllapsedTime: 34.0 seconds RetCode: 0 Status: OK PackageFile: HilbertCurve_2.0.0.tar.gz PackageFileSize: 408 KiB