Package: HilbertCurve Version: 2.0.0 Command: F:\biocbuild\bbs-3.20-bioc\R\bin\R.exe CMD INSTALL HilbertCurve StartedAt: 2025-01-27 15:41:24 -0500 (Mon, 27 Jan 2025) EndedAt: 2025-01-27 15:42:26 -0500 (Mon, 27 Jan 2025) EllapsedTime: 62.2 seconds RetCode: 0 Status: OK