Package: HilbertCurve Version: 2.0.0 Command: chmod a+r HilbertCurve -R && F:\biocbuild\bbs-3.20-bioc\R\bin\R.exe CMD build --keep-empty-dirs --no-resave-data HilbertCurve StartedAt: 2025-01-27 19:30:36 -0500 (Mon, 27 Jan 2025) EndedAt: 2025-01-27 19:31:26 -0500 (Mon, 27 Jan 2025) EllapsedTime: 50.7 seconds RetCode: 0 Status: OK PackageFile: HilbertCurve_2.0.0.tar.gz PackageFileSize: 407.7 KiB