Package: HilbertCurve Version: 2.0.0 Command: /Library/Frameworks/R.framework/Resources/bin/R CMD check --install=check:HilbertCurve.install-out.txt --library=/Library/Frameworks/R.framework/Resources/library --no-vignettes --timings HilbertCurve_2.0.0.tar.gz StartedAt: 2025-02-04 04:58:10 -0500 (Tue, 04 Feb 2025) EndedAt: 2025-02-04 05:02:40 -0500 (Tue, 04 Feb 2025) EllapsedTime: 269.9 seconds RetCode: 0 Status: OK CheckDir: HilbertCurve.Rcheck Warnings: 0