Package: HilbertCurve Version: 2.0.0 Command: /home/biocbuild/R/R/bin/R CMD INSTALL HilbertCurve StartedAt: 2024-11-19 20:35:46 -0000 (Tue, 19 Nov 2024) EndedAt: 2024-11-19 20:36:23 -0000 (Tue, 19 Nov 2024) EllapsedTime: 37.0 seconds RetCode: 0 Status: OK