Package: HilbertCurve Version: 2.0.0 Command: /Library/Frameworks/R.framework/Resources/bin/R CMD INSTALL HilbertCurve StartedAt: 2025-01-27 15:20:42 -0500 (Mon, 27 Jan 2025) EndedAt: 2025-01-27 15:21:05 -0500 (Mon, 27 Jan 2025) EllapsedTime: 22.9 seconds RetCode: 0 Status: OK