Package: HicAggR Version: 1.2.0 Command: chmod a+r HicAggR -R && F:\biocbuild\bbs-3.20-bioc\R\bin\R.exe CMD build --keep-empty-dirs --no-resave-data HicAggR StartedAt: 2025-03-31 19:30:13 -0400 (Mon, 31 Mar 2025) EndedAt: 2025-03-31 19:36:38 -0400 (Mon, 31 Mar 2025) EllapsedTime: 384.7 seconds RetCode: 0 Status: OK PackageFile: HicAggR_1.2.0.tar.gz PackageFileSize: 3.009 MiB