Package: HiTC Version: 1.50.0 Command: /Library/Frameworks/R.framework/Resources/bin/R CMD build --keep-empty-dirs --no-resave-data HiTC StartedAt: 2025-01-27 19:41:57 -0500 (Mon, 27 Jan 2025) EndedAt: 2025-01-27 19:47:03 -0500 (Mon, 27 Jan 2025) EllapsedTime: 305.7 seconds RetCode: 0 Status: OK PackageFile: HiTC_1.50.0.tar.gz PackageFileSize: 3.126 MiB