Package: HiTC Version: 1.50.0 Command: /Library/Frameworks/R.framework/Resources/bin/R CMD build --keep-empty-dirs --no-resave-data HiTC StartedAt: 2025-01-28 01:29:38 -0500 (Tue, 28 Jan 2025) EndedAt: 2025-01-28 01:32:20 -0500 (Tue, 28 Jan 2025) EllapsedTime: 161.4 seconds RetCode: 0 Status: OK PackageFile: HiTC_1.50.0.tar.gz PackageFileSize: 3.124 MiB