Package: HiLDA Version: 1.20.0 Command: /home/biocbuild/R/R/bin/R CMD INSTALL HiLDA StartedAt: 2025-01-27 21:26:41 -0000 (Mon, 27 Jan 2025) EndedAt: 2025-01-27 21:26:42 -0000 (Mon, 27 Jan 2025) EllapsedTime: 0.8 seconds RetCode: 1 Status: ERROR