Package: HiLDA Version: 1.20.0 Command: rm -rf HiLDA.buildbin-libdir && mkdir HiLDA.buildbin-libdir && F:\biocbuild\bbs-3.20-bioc\R\bin\R.exe CMD INSTALL --build --library=HiLDA.buildbin-libdir HiLDA_1.20.0.tar.gz StartedAt: 2025-04-01 08:23:40 -0400 (Tue, 01 Apr 2025) EndedAt: 2025-04-01 08:24:16 -0400 (Tue, 01 Apr 2025) EllapsedTime: 36.2 seconds RetCode: 0 Status: OK PackageFile: HiLDA_1.20.0.zip PackageFileSize: 2.854 MiB