Package: HiLDA Version: 1.20.0 Command: /home/biocbuild/bbs-3.20-bioc/R/bin/R CMD check --install=check:HiLDA.install-out.txt --library=/home/biocbuild/bbs-3.20-bioc/R/site-library --timings HiLDA_1.20.0.tar.gz StartedAt: 2025-01-27 23:56:20 -0500 (Mon, 27 Jan 2025) EndedAt: 2025-01-28 00:03:18 -0500 (Tue, 28 Jan 2025) EllapsedTime: 417.5 seconds RetCode: 0 Status: OK CheckDir: HiLDA.Rcheck Warnings: 0