Package: HiLDA Version: 1.20.0 Command: /Library/Frameworks/R.framework/Resources/bin/R CMD build --keep-empty-dirs --no-resave-data HiLDA StartedAt: 2025-01-27 19:40:58 -0500 (Mon, 27 Jan 2025) EndedAt: 2025-01-27 19:49:40 -0500 (Mon, 27 Jan 2025) EllapsedTime: 521.7 seconds RetCode: 0 Status: OK PackageFile: HiLDA_1.20.0.tar.gz PackageFileSize: 2.46 MiB