Package: HiLDA Version: 1.20.0 Command: /Library/Frameworks/R.framework/Resources/bin/R CMD INSTALL HiLDA StartedAt: 2025-03-31 16:14:45 -0400 (Mon, 31 Mar 2025) EndedAt: 2025-03-31 16:15:02 -0400 (Mon, 31 Mar 2025) EllapsedTime: 17.4 seconds RetCode: 0 Status: OK