Package: HiContacts Version: 1.8.0 Command: /Library/Frameworks/R.framework/Resources/bin/R CMD INSTALL HiContacts StartedAt: 2025-01-30 15:43:53 -0500 (Thu, 30 Jan 2025) EndedAt: 2025-01-30 15:44:57 -0500 (Thu, 30 Jan 2025) EllapsedTime: 64.2 seconds RetCode: 0 Status: OK