Package: HiContacts Version: 1.8.0 Command: rm -rf HiContacts.buildbin-libdir && mkdir HiContacts.buildbin-libdir && /Users/biocbuild/BBS/utils/build-universal.sh HiContacts_1.8.0.tar.gz /Library/Frameworks/R.framework/Resources/bin/R HiContacts.buildbin-libdir StartedAt: 2025-01-31 12:58:10 -0500 (Fri, 31 Jan 2025) EndedAt: 2025-01-31 12:59:13 -0500 (Fri, 31 Jan 2025) EllapsedTime: 63.5 seconds RetCode: 0 Status: OK PackageFile: HiContacts_1.8.0.tgz PackageFileSize: 5.531 MiB