Package: HiCcompare Version: 1.28.0 Command: /home/biocbuild/R/R/bin/R CMD INSTALL HiCcompare StartedAt: 2025-01-27 21:17:05 -0000 (Mon, 27 Jan 2025) EndedAt: 2025-01-27 21:17:47 -0000 (Mon, 27 Jan 2025) EllapsedTime: 42.2 seconds RetCode: 0 Status: OK