Package: HiCcompare Version: 1.28.0 Command: /home/biocbuild/R/R/bin/R CMD check --install=check:HiCcompare.install-out.txt --library=/home/biocbuild/R/R/site-library --no-vignettes --timings HiCcompare_1.28.0.tar.gz StartedAt: 2025-01-28 07:56:54 -0000 (Tue, 28 Jan 2025) EndedAt: 2025-01-28 08:02:24 -0000 (Tue, 28 Jan 2025) EllapsedTime: 329.3 seconds RetCode: 0 Status: OK CheckDir: HiCcompare.Rcheck Warnings: 0