Package: HiCDOC Version: 1.8.0 Command: rm -rf HiCDOC.buildbin-libdir && mkdir HiCDOC.buildbin-libdir && F:\biocbuild\bbs-3.20-bioc\R\bin\R.exe CMD INSTALL --build --library=HiCDOC.buildbin-libdir HiCDOC_1.8.0.tar.gz StartedAt: 2025-02-11 08:38:48 -0500 (Tue, 11 Feb 2025) EndedAt: 2025-02-11 08:39:50 -0500 (Tue, 11 Feb 2025) EllapsedTime: 61.3 seconds RetCode: 0 Status: OK PackageFile: HiCDOC_1.8.0.zip PackageFileSize: 3.274 MiB