Package: HiCDOC Version: 1.8.0 Command: /Library/Frameworks/R.framework/Resources/bin/R CMD build --keep-empty-dirs --no-resave-data HiCDOC StartedAt: 2025-02-03 19:35:18 -0500 (Mon, 03 Feb 2025) EndedAt: 2025-02-03 19:40:26 -0500 (Mon, 03 Feb 2025) EllapsedTime: 307.8 seconds RetCode: 0 Status: OK PackageFile: HiCDOC_1.8.0.tar.gz PackageFileSize: 3.555 MiB