Package: HiCDOC Version: 1.8.0 Command: rm -rf HiCDOC.buildbin-libdir && mkdir HiCDOC.buildbin-libdir && /Users/biocbuild/BBS/utils/build-universal.sh HiCDOC_1.8.0.tar.gz /Library/Frameworks/R.framework/Resources/bin/R HiCDOC.buildbin-libdir StartedAt: 2025-02-04 13:08:40 -0500 (Tue, 04 Feb 2025) EndedAt: 2025-02-04 13:10:23 -0500 (Tue, 04 Feb 2025) EllapsedTime: 103.2 seconds RetCode: 0 Status: OK PackageFile: HiCDOC_1.8.0.tgz PackageFileSize: 3.538 MiB