Package: HiCDOC Version: 1.8.0 Command: /Library/Frameworks/R.framework/Resources/bin/R CMD INSTALL HiCDOC StartedAt: 2025-02-03 15:44:42 -0500 (Mon, 03 Feb 2025) EndedAt: 2025-02-03 15:45:27 -0500 (Mon, 03 Feb 2025) EllapsedTime: 44.2 seconds RetCode: 0 Status: OK