Package: HiCDOC Version: 1.8.0 Maintainer: Maigné Élise MaintainerEmail: elise.maigne at inrae.fr git_url: https://git.bioconductor.org/packages/HiCDOC git_branch: RELEASE_3_20 git_last_commit: 3496af8 git_last_commit_date: 2024-10-29 11:12:52 -0500 (Tue, 29 Oct 2024)