Package: HiCDCPlus Version: 1.14.0 Command: /home/biocbuild/bbs-3.20-bioc/R/bin/R CMD build --keep-empty-dirs --no-resave-data --md5 HiCDCPlus StartedAt: 2025-01-27 18:32:54 -0500 (Mon, 27 Jan 2025) EndedAt: 2025-01-27 18:34:37 -0500 (Mon, 27 Jan 2025) EllapsedTime: 103.1 seconds RetCode: 0 Status: OK PackageFile: HiCDCPlus_1.14.0.tar.gz PackageFileSize: 1.191 MiB