Package: HiCDCPlus Version: 1.14.0 Command: /Library/Frameworks/R.framework/Resources/bin/R CMD INSTALL HiCDCPlus StartedAt: 2025-03-31 16:50:57 -0400 (Mon, 31 Mar 2025) EndedAt: 2025-03-31 16:51:44 -0400 (Mon, 31 Mar 2025) EllapsedTime: 47.8 seconds RetCode: 0 Status: OK