Package: HiCBricks Version: 1.24.0 Command: /home/biocbuild/R/R/bin/R CMD check --install=check:HiCBricks.install-out.txt --library=/home/biocbuild/R/R/site-library --no-vignettes --timings HiCBricks_1.24.0.tar.gz StartedAt: 2025-02-04 07:48:33 -0000 (Tue, 04 Feb 2025) EndedAt: 2025-02-04 08:01:49 -0000 (Tue, 04 Feb 2025) EllapsedTime: 795.7 seconds RetCode: 0 Status: OK CheckDir: HiCBricks.Rcheck Warnings: 0