Package: HiCBricks Version: 1.24.0 Command: /home/biocbuild/R/R/bin/R CMD build --keep-empty-dirs --no-resave-data HiCBricks StartedAt: 2025-02-04 00:15:19 -0000 (Tue, 04 Feb 2025) EndedAt: 2025-02-04 00:16:54 -0000 (Tue, 04 Feb 2025) EllapsedTime: 95.1 seconds RetCode: 0 Status: OK PackageFile: HiCBricks_1.24.0.tar.gz PackageFileSize: 4.006 MiB