Package: HiCBricks Version: 1.24.0 Command: /Library/Frameworks/R.framework/Resources/bin/R CMD INSTALL HiCBricks StartedAt: 2025-03-31 15:43:57 -0400 (Mon, 31 Mar 2025) EndedAt: 2025-03-31 15:44:34 -0400 (Mon, 31 Mar 2025) EllapsedTime: 37.1 seconds RetCode: 0 Status: OK