Package: HiCBricks Version: 1.24.0 Command: /Library/Frameworks/R.framework/Resources/bin/R CMD check --install=check:HiCBricks.install-out.txt --library=/Library/Frameworks/R.framework/Resources/library --no-vignettes --timings HiCBricks_1.24.0.tar.gz StartedAt: 2025-04-01 04:09:57 -0400 (Tue, 01 Apr 2025) EndedAt: 2025-04-01 04:15:46 -0400 (Tue, 01 Apr 2025) EllapsedTime: 348.9 seconds RetCode: 0 Status: OK CheckDir: HiCBricks.Rcheck Warnings: 0