Package: HelloRanges Version: 1.32.0 Command: chmod a+r HelloRanges -R && F:\biocbuild\bbs-3.20-bioc\R\bin\R.exe CMD build --keep-empty-dirs --no-resave-data HelloRanges StartedAt: 2025-01-27 19:28:14 -0500 (Mon, 27 Jan 2025) EndedAt: 2025-01-27 19:48:09 -0500 (Mon, 27 Jan 2025) EllapsedTime: 1195.5 seconds RetCode: 0 Status: OK PackageFile: HelloRanges_1.32.0.tar.gz PackageFileSize: 952.8 KiB