Package: HelloRanges Version: 1.32.0 Command: rm -rf HelloRanges.buildbin-libdir && mkdir HelloRanges.buildbin-libdir && F:\biocbuild\bbs-3.20-bioc\R\bin\R.exe CMD INSTALL --build --library=HelloRanges.buildbin-libdir HelloRanges_1.32.0.tar.gz StartedAt: 2025-04-01 08:22:44 -0400 (Tue, 01 Apr 2025) EndedAt: 2025-04-01 08:24:33 -0400 (Tue, 01 Apr 2025) EllapsedTime: 108.9 seconds RetCode: 0 Status: OK PackageFile: HelloRanges_1.32.0.zip PackageFileSize: 977.5 KiB