Package: HelloRanges Version: 1.32.0 Command: /home/biocbuild/bbs-3.20-bioc/R/bin/R CMD check --install=check:HelloRanges.install-out.txt --library=/home/biocbuild/bbs-3.20-bioc/R/site-library --timings HelloRanges_1.32.0.tar.gz StartedAt: 2025-03-31 22:53:28 -0400 (Mon, 31 Mar 2025) EndedAt: 2025-03-31 23:01:32 -0400 (Mon, 31 Mar 2025) EllapsedTime: 483.6 seconds RetCode: 0 Status: OK CheckDir: HelloRanges.Rcheck Warnings: 0