Package: HelloRanges Version: 1.32.0 Command: /Library/Frameworks/R.framework/Resources/bin/R CMD build --keep-empty-dirs --no-resave-data HelloRanges StartedAt: 2025-01-27 19:36:22 -0500 (Mon, 27 Jan 2025) EndedAt: 2025-01-27 19:45:43 -0500 (Mon, 27 Jan 2025) EllapsedTime: 561.0 seconds RetCode: 0 Status: OK PackageFile: HelloRanges_1.32.0.tar.gz PackageFileSize: 951.2 KiB