Package: HelloRanges Version: 1.32.0 Command: /Library/Frameworks/R.framework/Resources/bin/R CMD check --install=check:HelloRanges.install-out.txt --library=/Library/Frameworks/R.framework/Resources/library --no-vignettes --timings HelloRanges_1.32.0.tar.gz StartedAt: 2025-04-01 21:34:31 -0400 (Tue, 01 Apr 2025) EndedAt: 2025-04-01 21:40:14 -0400 (Tue, 01 Apr 2025) EllapsedTime: 343.3 seconds RetCode: 0 Status: OK CheckDir: HelloRanges.Rcheck Warnings: 0