Package: HelloRanges Version: 1.32.0 Command: rm -rf HelloRanges.buildbin-libdir && mkdir HelloRanges.buildbin-libdir && /Users/biocbuild/BBS/utils/build-universal.sh HelloRanges_1.32.0.tar.gz /Library/Frameworks/R.framework/Resources/bin/R HelloRanges.buildbin-libdir StartedAt: 2025-04-02 14:41:47 -0400 (Wed, 02 Apr 2025) EndedAt: 2025-04-02 14:42:42 -0400 (Wed, 02 Apr 2025) EllapsedTime: 54.3 seconds RetCode: 0 Status: OK PackageFile: HelloRanges_1.32.0.tgz PackageFileSize: 953.2 KiB