Package: Heatplus Version: 3.14.0 Command: /home/biocbuild/R/R/bin/R CMD INSTALL Heatplus StartedAt: 2025-02-10 20:09:28 -0000 (Mon, 10 Feb 2025) EndedAt: 2025-02-10 20:09:52 -0000 (Mon, 10 Feb 2025) EllapsedTime: 24.0 seconds RetCode: 0 Status: OK