Package: Heatplus Version: 3.14.0 Command: rm -rf Heatplus.buildbin-libdir && mkdir Heatplus.buildbin-libdir && /Users/biocbuild/BBS/utils/build-universal.sh Heatplus_3.14.0.tar.gz /Library/Frameworks/R.framework/Resources/bin/R Heatplus.buildbin-libdir StartedAt: 2025-01-28 13:22:40 -0500 (Tue, 28 Jan 2025) EndedAt: 2025-01-28 13:22:51 -0500 (Tue, 28 Jan 2025) EllapsedTime: 10.7 seconds RetCode: 0 Status: OK PackageFile: Heatplus_3.14.0.tgz PackageFileSize: 1.264 MiB