Package: Harshlight Version: 1.78.0 Command: /home/biocbuild/R/R/bin/R CMD check --install=check:Harshlight.install-out.txt --library=/home/biocbuild/R/R/site-library --no-vignettes --timings Harshlight_1.78.0.tar.gz StartedAt: 2025-01-28 07:52:29 -0000 (Tue, 28 Jan 2025) EndedAt: 2025-01-28 07:54:00 -0000 (Tue, 28 Jan 2025) EllapsedTime: 91.1 seconds RetCode: 0 Status: WARNINGS CheckDir: Harshlight.Rcheck Warnings: 1