Package: Harshlight Version: 1.78.0 Command: /home/biocbuild/bbs-3.20-bioc/R/bin/R CMD check --install=check:Harshlight.install-out.txt --library=/home/biocbuild/bbs-3.20-bioc/R/site-library --timings Harshlight_1.78.0.tar.gz StartedAt: 2025-01-27 23:49:50 -0500 (Mon, 27 Jan 2025) EndedAt: 2025-01-27 23:51:19 -0500 (Mon, 27 Jan 2025) EllapsedTime: 89.1 seconds RetCode: 0 Status: WARNINGS CheckDir: Harshlight.Rcheck Warnings: 1