Package: Harshlight Version: 1.78.0 Command: /Library/Frameworks/R.framework/Resources/bin/R CMD build --keep-empty-dirs --no-resave-data Harshlight StartedAt: 2025-01-27 19:35:17 -0500 (Mon, 27 Jan 2025) EndedAt: 2025-01-27 19:36:06 -0500 (Mon, 27 Jan 2025) EllapsedTime: 49.9 seconds RetCode: 0 Status: OK PackageFile: Harshlight_1.78.0.tar.gz PackageFileSize: 268 KiB