Package: Harshlight Version: 1.78.0 Command: rm -rf Harshlight.buildbin-libdir && mkdir Harshlight.buildbin-libdir && /Users/biocbuild/BBS/utils/build-universal.sh Harshlight_1.78.0.tar.gz /Library/Frameworks/R.framework/Resources/bin/R Harshlight.buildbin-libdir StartedAt: 2025-02-05 16:11:02 -0500 (Wed, 05 Feb 2025) EndedAt: 2025-02-05 16:11:19 -0500 (Wed, 05 Feb 2025) EllapsedTime: 17.0 seconds RetCode: 0 Status: OK PackageFile: Harshlight_1.78.0.tgz PackageFileSize: 307.7 KiB