Package: Harman Version: 1.34.0 Command: rm -rf Harman.buildbin-libdir && mkdir Harman.buildbin-libdir && F:\biocbuild\bbs-3.20-bioc\R\bin\R.exe CMD INSTALL --build --library=Harman.buildbin-libdir Harman_1.34.0.tar.gz StartedAt: 2025-04-01 08:22:10 -0400 (Tue, 01 Apr 2025) EndedAt: 2025-04-01 08:22:29 -0400 (Tue, 01 Apr 2025) EllapsedTime: 19.9 seconds RetCode: 0 Status: OK PackageFile: Harman_1.34.0.zip PackageFileSize: 1.18 MiB