Package: Harman Version: 1.34.0 Command: /Library/Frameworks/R.framework/Resources/bin/R CMD build --keep-empty-dirs --no-resave-data Harman StartedAt: 2025-02-03 19:30:51 -0500 (Mon, 03 Feb 2025) EndedAt: 2025-02-03 19:36:03 -0500 (Mon, 03 Feb 2025) EllapsedTime: 312.0 seconds RetCode: 0 Status: OK PackageFile: Harman_1.34.0.tar.gz PackageFileSize: 2.121 MiB