Package: Harman Version: 1.34.0 Command: /Library/Frameworks/R.framework/Resources/bin/R CMD build --keep-empty-dirs --no-resave-data Harman StartedAt: 2025-01-28 01:14:30 -0500 (Tue, 28 Jan 2025) EndedAt: 2025-01-28 01:17:42 -0500 (Tue, 28 Jan 2025) EllapsedTime: 191.7 seconds RetCode: 0 Status: OK PackageFile: Harman_1.34.0.tar.gz PackageFileSize: 2.122 MiB