Package: HTqPCR Version: 1.60.0 Command: /home/biocbuild/R/R/bin/R CMD INSTALL HTqPCR StartedAt: 2025-01-27 21:07:47 -0000 (Mon, 27 Jan 2025) EndedAt: 2025-01-27 21:08:06 -0000 (Mon, 27 Jan 2025) EllapsedTime: 18.4 seconds RetCode: 0 Status: OK