Package: HTqPCR Version: 1.60.1 Command: chmod a+r HTqPCR -R && F:\biocbuild\bbs-3.20-bioc\R\bin\R.exe CMD build --keep-empty-dirs --no-resave-data HTqPCR StartedAt: 2025-03-31 19:33:47 -0400 (Mon, 31 Mar 2025) EndedAt: 2025-03-31 19:34:25 -0400 (Mon, 31 Mar 2025) EllapsedTime: 37.7 seconds RetCode: 0 Status: OK PackageFile: HTqPCR_1.60.1.tar.gz PackageFileSize: 2.409 MiB